BEGIN:VCALENDAR
VERSION:2.0
PRODID:-//H.A.L.O. No-Kill Rescue - ECPv6.15.20//NONSGML v1.0//EN
CALSCALE:GREGORIAN
METHOD:PUBLISH
X-WR-CALNAME:H.A.L.O. No-Kill Rescue
X-ORIGINAL-URL:https://halorescuefl.org
X-WR-CALDESC:Events for H.A.L.O. No-Kill Rescue
REFRESH-INTERVAL;VALUE=DURATION:PT1H
X-Robots-Tag:noindex
X-PUBLISHED-TTL:PT1H
BEGIN:VTIMEZONE
TZID:America/New_York
BEGIN:DAYLIGHT
TZOFFSETFROM:-0500
TZOFFSETTO:-0400
TZNAME:EDT
DTSTART:20200308T070000
END:DAYLIGHT
BEGIN:STANDARD
TZOFFSETFROM:-0400
TZOFFSETTO:-0500
TZNAME:EST
DTSTART:20201101T060000
END:STANDARD
BEGIN:DAYLIGHT
TZOFFSETFROM:-0500
TZOFFSETTO:-0400
TZNAME:EDT
DTSTART:20210314T070000
END:DAYLIGHT
BEGIN:STANDARD
TZOFFSETFROM:-0400
TZOFFSETTO:-0500
TZNAME:EST
DTSTART:20211107T060000
END:STANDARD
BEGIN:DAYLIGHT
TZOFFSETFROM:-0500
TZOFFSETTO:-0400
TZNAME:EDT
DTSTART:20220313T070000
END:DAYLIGHT
BEGIN:STANDARD
TZOFFSETFROM:-0400
TZOFFSETTO:-0500
TZNAME:EST
DTSTART:20221106T060000
END:STANDARD
BEGIN:DAYLIGHT
TZOFFSETFROM:-0500
TZOFFSETTO:-0400
TZNAME:EDT
DTSTART:20230312T070000
END:DAYLIGHT
BEGIN:STANDARD
TZOFFSETFROM:-0400
TZOFFSETTO:-0500
TZNAME:EST
DTSTART:20231105T060000
END:STANDARD
BEGIN:DAYLIGHT
TZOFFSETFROM:-0500
TZOFFSETTO:-0400
TZNAME:EDT
DTSTART:20240310T070000
END:DAYLIGHT
BEGIN:STANDARD
TZOFFSETFROM:-0400
TZOFFSETTO:-0500
TZNAME:EST
DTSTART:20241103T060000
END:STANDARD
END:VTIMEZONE
BEGIN:VEVENT
DTSTART;TZID=America/New_York:20231021T110000
DTEND;TZID=America/New_York:20231021T150000
DTSTAMP:20260422T105316
CREATED:20230828T173009Z
LAST-MODIFIED:20230918T174100Z
UID:34931-1697886000-1697900400@halorescuefl.org
SUMMARY:H.A.L.O. ween!
DESCRIPTION:Join H.A.L.O. No-Kill Rescue & Indian River Shores Public Safety for a fun\, family-friendly fall festival!
URL:https://halorescuefl.org/event/h-a-l-o-ween/
LOCATION:Indian River Shores Public Safety Department\, 6001 N A1A\, Indian River Shores\, FL\, 32963\, US
CATEGORIES:H.A.L.O. FB Page
ATTACH;FMTTYPE=image/jpeg:https://halorescuefl.org/wp-content/uploads/2023/08/HALOween-Poster-11x14-copy.jpg
ORGANIZER;CN="Allyson Bootes":MAILTO:allysonb@halorescuefl.org
END:VEVENT
BEGIN:VEVENT
DTSTART;TZID=America/New_York:20230930T100000
DTEND;TZID=America/New_York:20230930T130000
DTSTAMP:20260422T105316
CREATED:20230914T160633Z
LAST-MODIFIED:20230914T160633Z
UID:35842-1696068000-1696078800@halorescuefl.org
SUMMARY:Mutts & Mimosas!
DESCRIPTION:Stop in at Viera Petworks for lots of fun activities for you and your pup all while supporting No-Kill Rescue!
URL:https://halorescuefl.org/event/mutts-mimosas/
LOCATION:Indian River Shores Public Safety Department\, 6001 N A1A\, Indian River Shores\, FL\, 32963\, US
CATEGORIES:H.A.L.O. FB Page
ATTACH;FMTTYPE=image/jpeg:https://halorescuefl.org/wp-content/uploads/2023/09/image_123986672.jpg
ORGANIZER;CN="Allyson Bootes":MAILTO:allysonb@halorescuefl.org
END:VEVENT
BEGIN:VEVENT
DTSTART;TZID=America/New_York:20221023T140000
DTEND;TZID=America/New_York:20221023T170000
DTSTAMP:20260422T105316
CREATED:20220902T160013Z
LAST-MODIFIED:20220902T195139Z
UID:25425-1666533600-1666544400@halorescuefl.org
SUMMARY:H.A.L.O. Howls
DESCRIPTION:Join H.A.L.O. and Indian River Shores Public Safety for H.A.L.O. Howls! \nGet your fright on in the spooky Haunted House in the Firehouse! Family and fur friends will also enjoy a costume contest for children and animals\, hay rides\, a bounce house\, face painting\, and lots of fun games and prizes. \nSelect Artisans will be selling goods! \nClick the link to become a Vendor! 👇\nhttps://donate-usa.keela.co/halo-howls-vendor-form
URL:https://halorescuefl.org/event/h-a-l-o-howls-2/
LOCATION:Indian River Shores Public Safety Department\, 6001 N A1A\, Indian River Shores\, FL\, 32963\, US
CATEGORIES:H.A.L.O. FB Page
ORGANIZER;CN="Allyson Bootes":MAILTO:allysonb@halorescuefl.org
END:VEVENT
BEGIN:VEVENT
DTSTART;TZID=America/New_York:20211030T160000
DTEND;TZID=America/New_York:20211030T210000
DTSTAMP:20260422T105316
CREATED:20211006T204840Z
LAST-MODIFIED:20211029T144021Z
UID:19971-1635609600-1635627600@halorescuefl.org
SUMMARY:Halloween Pawty
DESCRIPTION:Yes we are having a Halloween Pawty for you and your pup. Costume contest for most scariest\, silliest and out fo the ordinary!!! Donations $ to enter the contest to benefit H.A.L.O  No Kill Rescue.
URL:https://halorescuefl.org/event/halloween-pawty/
LOCATION:Indian River Shores Public Safety Department\, 6001 N A1A\, Indian River Shores\, FL\, 32963\, US
CATEGORIES:H.A.L.O. FB Page
END:VEVENT
BEGIN:VEVENT
DTSTART;TZID=America/New_York:20211024T110000
DTEND;TZID=America/New_York:20211024T140000
DTSTAMP:20260422T105316
CREATED:20210914T204832Z
LAST-MODIFIED:20211024T204845Z
UID:19307-1635073200-1635084000@halorescuefl.org
SUMMARY:H.A.L.O. Howls
DESCRIPTION:Join H.A.L.O. and Indian River Shores Public Safety for H.A.L.O. Howls!  \nGet your fright on in the spooky Haunted House in the Firehouse! Family and fur friends will also enjoy a costume contest for children and animals and lots of fun games and prizes.  \nSelect Artisans will be selling goods and you can satisfy your taste buds with the best BBQ on the Treasure Coast\, Smoked on the Water!  \nClick the link to become a Vendor! 👇\nhttps://donate-usa.keela.co/halo-howls-vendor-form
URL:https://halorescuefl.org/event/h-a-l-o-howls/
LOCATION:Indian River Shores Public Safety Department\, 6001 N A1A\, Indian River Shores\, FL\, 32963\, US
CATEGORIES:H.A.L.O. FB Page
ATTACH;FMTTYPE=image/jpeg:https://halorescuefl.org/wp-content/uploads/2021/09/19307_image_241843204_10159253748239088_503844806231318859_n.jpg
END:VEVENT
END:VCALENDAR